BEGIN:VCALENDAR
CALSCALE:GREGORIAN
X-WR-TIMEZONE;VALUE=TEXT:GMT
PRODID:PEAK Corporation - piCal -
X-WR-CALNAME;VALUE=TEXT:開室夜間サロン会
VERSION:2.0
METHOD:PUBLISH
BEGIN:VTIMEZONE
TZID:Etc/GMT-9
BEGIN:STANDARD
DTSTART:19390101T000000
TZOFFSETFROM:+0900
TZOFFSETTO:+0900
TZNAME:Etc/GMT-9
END:STANDARD
END:VTIMEZONE
BEGIN:VEVENT
DTSTART;TZID=Etc/GMT-9:20070802T190000
DTEND;TZID=Etc/GMT-9:20070802T213000
LOCATION:洞戸ネットサロン
TRANSP:OPAQUE
SEQUENCE:0
UID:pical060-1ba84d6baf2ac630bd4eed6ff8533b13
DTSTAMP:20070713T230410Z
CATEGORIES:
DESCRIPTION:一般開放
SUMMARY:開室夜間サロン会
RRULE:FREQ=WEEKLY;INTERVAL=1;BYDAY=TH;UNTIL=20070831T145959Z;WKST=SU
PRIORITY:0
CLASS:PUBLIC
END:VEVENT
END:VCALENDAR
