BEGIN:VCALENDAR
CALSCALE:GREGORIAN
X-WR-TIMEZONE;VALUE=TEXT:GMT
PRODID:PEAK Corporation - piCal -
X-WR-CALNAME;VALUE=TEXT:開室夜間
VERSION:2.0
METHOD:PUBLISH
BEGIN:VTIMEZONE
TZID:Etc/GMT-9
BEGIN:STANDARD
DTSTART:19390101T000000
TZOFFSETFROM:+0900
TZOFFSETTO:+0900
TZNAME:Etc/GMT-9
END:STANDARD
END:VTIMEZONE
BEGIN:VEVENT
DTSTART;TZID=Etc/GMT-9:20070906T190000
DTEND;TZID=Etc/GMT-9:20070906T213000
LOCATION:洞戸ネットサロン
TRANSP:OPAQUE
SEQUENCE:1
UID:pical060-1f76dabc140aeaf133f279c26490a398
DTSTAMP:20070830T094544Z
CATEGORIES:
DESCRIPTION:一般開放\n
SUMMARY:開室夜間
RRULE:FREQ=WEEKLY;INTERVAL=1;BYDAY=FR,SA;UNTIL=20070930T145959Z;WKST=SU
PRIORITY:0
CLASS:PUBLIC
END:VEVENT
END:VCALENDAR
