BEGIN:VCALENDAR
CALSCALE:GREGORIAN
X-WR-TIMEZONE;VALUE=TEXT:GMT
PRODID:PEAK Corporation - piCal -
X-WR-CALNAME;VALUE=TEXT:開室夜間スタッフ研修
VERSION:2.0
METHOD:PUBLISH
BEGIN:VTIMEZONE
TZID:GMT
BEGIN:STANDARD
DTSTART:19390101T000000
TZOFFSETFROM:+0000
TZOFFSETTO:+0000
TZNAME:GMT
END:STANDARD
END:VTIMEZONE
BEGIN:VEVENT
DTSTART:20070901T100000Z
DTEND:20070901T123000Z
LOCATION:洞戸ネットサロン
TRANSP:OPAQUE
SEQUENCE:1
UID:pical060-157c227efe014484c0ccca12eb50bfdd
DTSTAMP:20070830T094833Z
CATEGORIES:
DESCRIPTION:一般開放\nサロンスタッフ研修 19:30〜
SUMMARY:開室夜間スタッフ研修
PRIORITY:0
CLASS:PUBLIC
END:VEVENT
END:VCALENDAR
