BEGIN:VCALENDAR
CALSCALE:GREGORIAN
X-WR-TIMEZONE;VALUE=TEXT:GMT
PRODID:PEAK Corporation - piCal -
X-WR-CALNAME;VALUE=TEXT:開室午後
VERSION:2.0
METHOD:PUBLISH
BEGIN:VTIMEZONE
TZID:Etc/GMT-9
BEGIN:STANDARD
DTSTART:19390101T000000
TZOFFSETFROM:+0900
TZOFFSETTO:+0900
TZNAME:Etc/GMT-9
END:STANDARD
END:VTIMEZONE
BEGIN:VEVENT
DTSTART;TZID=Etc/GMT-9:20070801T130000
DTEND;TZID=Etc/GMT-9:20070801T160000
LOCATION:洞戸ネットサロン
TRANSP:OPAQUE
SEQUENCE:2
UID:pical060-03e19ae681f422e5c393c3410817bd56
DTSTAMP:20070713T230055Z
CATEGORIES:
DESCRIPTION:一般開放
SUMMARY:開室午後
RRULE:FREQ=WEEKLY;INTERVAL=1;BYDAY=SU,TU,WE,SA;UNTIL=20070831T145959Z;WKST=SU
PRIORITY:0
CLASS:PUBLIC
END:VEVENT
END:VCALENDAR
